BEGIN:VCALENDAR
VERSION:2.0
PRODID:-//Fight Fentanyl - ECPv6.15.18//NONSGML v1.0//EN
CALSCALE:GREGORIAN
METHOD:PUBLISH
X-WR-CALNAME:Fight Fentanyl
X-ORIGINAL-URL:https://wefightfentanyl.org
X-WR-CALDESC:Events for Fight Fentanyl
REFRESH-INTERVAL;VALUE=DURATION:PT1H
X-Robots-Tag:noindex
X-PUBLISHED-TTL:PT1H
BEGIN:VTIMEZONE
TZID:UTC
BEGIN:STANDARD
TZOFFSETFROM:+0000
TZOFFSETTO:+0000
TZNAME:UTC
DTSTART:20250101T000000
END:STANDARD
END:VTIMEZONE
BEGIN:VEVENT
DTSTART;TZID=UTC:20260505T170000
DTEND;TZID=UTC:20260505T200000
DTSTAMP:20260421T163006
CREATED:20260420T180533Z
LAST-MODIFIED:20260420T180533Z
UID:6964-1778000400-1778011200@wefightfentanyl.org
SUMMARY:Monroe County Children's Roundtable Community Night 2026
DESCRIPTION:Monroe County Children’s Roundtable Community Night\n\nTuesday\, May 5\, 2025\n5:00 – 8:00 PM\nNorthampton Community College Pocono Campus\n\nThe Monroe County Children’s Roundtable will host Community Night on Tuesday\, May 5\, from 5 p.m.to 8 p.m. at Northampton Community College Pocono Campus. This free event is open to the public and will feature more than 100 agencies that provide services to families and the community\, offering opportunities to educate and engage attendees. Activities will include CPR and Naloxone training for adults\, as well as the Bookmobile and wildlife exhibits for children. Guests can also enjoy the student art contest showcasing artwork from all four school districts. This year’s celebration highlights America 250PA Monroe County under the theme\, “America the Beautiful.”
URL:https://wefightfentanyl.org/event/monroe-county-childrens-roundtable-community-night-2026/
LOCATION:Northampton Community College – Pocono Campus\, 2411 PA-715\, Tannersville\, PA\, 18372\, United States
CATEGORIES:Monroe
END:VEVENT
END:VCALENDAR